BEGIN:VCALENDAR
VERSION:2.0
PRODID:icalendar-ruby
CALSCALE:GREGORIAN
METHOD:PUBLISH
BEGIN:VEVENT
DTSTAMP:20260419T235742Z
UID:5-388815@forfairfield.com
DTSTART:20261101T150000Z
DTEND:20261101T160000Z
CLASS:PUBLIC
CREATED:20260419T162558
DESCRIPTION:Sunday Worship
LAST-MODIFIED:20260419T162558
LOCATION:
SUMMARY:Sunday Worship
URL;VALUE=URI:https://www.forfairfield.com/events/sunday-worship/2026-11-01
END:VEVENT
END:VCALENDAR
