BEGIN:VCALENDAR
VERSION:2.0
PRODID:icalendar-ruby
CALSCALE:GREGORIAN
METHOD:PUBLISH
BEGIN:VEVENT
DTSTAMP:20260419T164501Z
UID:5-388550@forfairfield.com
DTSTART:20261004T140000Z
DTEND:20261004T150000Z
CLASS:PUBLIC
CREATED:20260419T124333
DESCRIPTION:Sunday Worship
LAST-MODIFIED:20260419T124333
LOCATION:
SUMMARY:Sunday Worship
URL;VALUE=URI:https://www.forfairfield.com/events/sunday-worship/2026-10-04
END:VEVENT
END:VCALENDAR
